View In:
  ArcGIS JavaScript
  ArcGIS Online Map Viewer
  ArcGIS Earth
  ArcMap
View Footprint In:
  ArcGIS Online Map Viewer
Service Description:  3D/DEM1 
Name:  3D/DEM1 
Description:  
Single Fused Map Cache:  true
Tile Info: 
- Height: 256
- Width: 256
- DPI: 96
- 
Levels of Detail:  10
- Format: LERC
- Compression Quality: 0.0
- LERC Error: 0.05
- Origin: X:  -5120900.0 
 Y:  9998100.0
 
- Spatial Reference: 25832
 (25832)
 
Extent:
XMin: 368160.5
YMin: 5696915.5
XMax: 385401.5
YMax: 5710346.5
Spatial Reference: 25832
 (25832)
 
Initial Extent:
XMin: 368160.5
YMin: 5696915.5
XMax: 385401.5
YMax: 5710346.5
Spatial Reference: 25832
 (25832)
 
Full Extent:
XMin: 368160.5
YMin: 5696915.5
XMax: 385401.5
YMax: 5710346.5
Spatial Reference: 25832
 (25832)
 
Pixel Size X: 1.0 
Pixel Size Y:  1.0 
Band Count: 1
Pixel Type: F64
RasterFunction Infos:  {"rasterFunctionInfos": [{
 "name": "None",
 "description": "",
 "help": ""
}]} 
Mensuration Capabilities: Basic
Has Histograms:  false
Has Colormap:  false
Has Multi Dimensions :  false
Rendering Rule: 
Min Scale:  128000
Max Scale:  500
Copyright Text:  
Service Data Type:  esriImageServiceDataTypeGeneric 
Min Values:  N/A 
Max Values:  N/A 
Mean Values:  N/A 
Standard Deviation Values:  N/A 
Object ID Field:  
Fields: 
None
Default Mosaic Method:  Center 
Allowed Mosaic Methods:  
SortField:  
SortValue:  null 
Mosaic Operator:  First 
Default Compression Quality:  75 
Default Resampling Method:  Bilinear 
Max Record Count:  null 
Max Image Height:  4100 
Max Image Width:  15000 
Max Download Image Count:  null 
Max Mosaic Image Count:  null 
Allow Raster Function:  true 
Allow Compute TiePoints:  false 
Supports Statistics:  false 
Supports Advanced Queries:  false 
Use StandardizedQueries:  true 
Raster Type Infos: 
Name: Raster Dataset
Description: Supports all ArcGIS Raster Datasets
Help: 
Has Raster Attribute Table: false 
Edit Fields Info:  null 
Ownership Based AccessControl For Rasters:  null 
Child Resources:
  
Info
  Key Properties
  Legend
  MultiDimensionalInfo
  rasterFunctionInfos
Supported Operations:
  
Export Image
  Identify
  Measure
  Compute Histograms
  Compute Statistics Histograms
  Get Samples
  Compute Class Statistics
  Query Boundary